BEGIN:VCALENDAR
VERSION:2.0
PRODID:-//Squarespace Inc/Squarespace 6//v6//EN
BEGIN:VEVENT
UID:5e4358e4907ec801daec4a32@squarespace.com
DTSTAMP:20200212T014726Z
DTSTART:20200806T000000Z
DTEND:20200823T130000Z
SUMMARY:Melbourne International Film Festival
END:VEVENT
END:VCALENDAR
