BEGIN:VCALENDAR
VERSION:2.0
PRODID:-//Squarespace Inc/Squarespace 6//v6//EN
BEGIN:VEVENT
UID:5e437b5c7bcc822d981da54a@squarespace.com
DTSTAMP:20200212T041400Z
DTSTART:20200825T230000Z
DTEND:20200830T130000Z
SUMMARY:CinefestOZ Film Festival 
END:VEVENT
END:VCALENDAR
