BEGIN:VCALENDAR
VERSION:2.0
PRODID:-//Squarespace Inc/Squarespace 6//v6//EN
BEGIN:VEVENT
UID:5e437bcb383ee71bf82ae4e0@squarespace.com
DTSTAMP:20200212T041623Z
DTSTART:20200702T110000Z
DTEND:20200710T130000Z
SUMMARY:Revelation Perth International Film Festival
END:VEVENT
END:VCALENDAR
