BEGIN:VCALENDAR
VERSION:2.0
PRODID:-//Squarespace Inc/Squarespace 6//v6//EN
BEGIN:VEVENT
UID:5e43587feb114713c9bd3abe@squarespace.com
DTSTAMP:20200212T014531Z
DTSTART:20200602T230000Z
DTEND:20200614T120000Z
SUMMARY:Sydney Film Festival 
END:VEVENT
END:VCALENDAR
