BEGIN:VCALENDAR
VERSION:2.0
PRODID:-//Squarespace Inc/Squarespace 6//v6//EN
BEGIN:VEVENT
UID:5e4357a2907ec801daebf02a@squarespace.com
DTSTAMP:20200212T014412Z
DTSTART:20200414T230000Z
DTEND:20200426T120000Z
SUMMARY:Gold Coast Film Festival
END:VEVENT
END:VCALENDAR
