BEGIN:VCALENDAR
VERSION:2.0
PRODID:-//Squarespace Inc/Squarespace 6//v6//EN
BEGIN:VEVENT
UID:5e413264d8d2da072eb18e91@squarespace.com
DTSTAMP:20200212T044432Z
DTSTART:20200307T000000Z
DTEND:20200307T030000Z
SUMMARY:Greenlight Network - Pitch and Network
GEO:-33.895258;151.226637
LOCATION:AFTRS Building 130\, The Entertainment Quarter\, Moore Park NSW 20
 21\, Australia
END:VEVENT
END:VCALENDAR
