BEGIN:VCALENDAR
VERSION:2.0
PRODID:-//Squarespace Inc/Squarespace 6//v6//EN
BEGIN:VEVENT
UID:5e412cbe4b6b8940eed7694a@squarespace.com
DTSTAMP:20200210T101514Z
DTSTART:20200323T070000Z
DTEND:20200323T090000Z
SUMMARY:In Conversation with Desiree Akhavan
GEO:-33.894571;151.228444
LOCATION:AFTRS theatre\, The Entertainment Quarter\, Building 130\, Moore P
 ark NSW 2021\, Australia
END:VEVENT
END:VCALENDAR
