BEGIN:VCALENDAR
VERSION:2.0
PRODID:-//Squarespace Inc/Squarespace 6//v6//EN
BEGIN:VEVENT
UID:5e412bbc120d25193d9e9449@squarespace.com
DTSTAMP:20200210T101258Z
DTSTART:20200302T070000Z
DTEND:20200302T090000Z
SUMMARY:In Conversation with Desiree Akhavan 
GEO:-37.814975;144.965895
LOCATION:RMIT Theatre\, 113 Swanston St\, Melbourne VIC 3000\, Australia
END:VEVENT
END:VCALENDAR
