BEGIN:VCALENDAR
VERSION:2.0
PRODID:-//Squarespace Inc/Squarespace 6//v6//EN
BEGIN:VEVENT
UID:5e41355f2ed8a656727674ea@squarespace.com
DTSTAMP:20200210T105337Z
DTSTART:20200229T220000Z
DTEND:20200304T100000Z
SUMMARY:Australian International Documentary Conference
GEO:-37.809747;144.965486
LOCATION:State Library Victoria\, 328 Swanston Street\, Melbourne\, VIC\, 3
 000\, Australia
END:VEVENT
END:VCALENDAR
