BEGIN:VCALENDAR
VERSION:2.0
PRODID:-//Squarespace Inc/Squarespace 6//v6//EN
BEGIN:VEVENT
UID:5e4359379dfb6e575338124e@squarespace.com
DTSTAMP:20200212T014827Z
DTSTART:20200207T020000Z
DTEND:20200301T030000Z
SUMMARY:Perth Arts Festival 
END:VEVENT
END:VCALENDAR
