BEGIN:VCALENDAR
VERSION:2.0
PRODID:-//Squarespace Inc/Squarespace 6//v6//EN
BEGIN:VEVENT
UID:5e412e17bab6ba3cfa6decab@squarespace.com
DTSTAMP:20200210T102025Z
DTSTART:20200225T073000Z
DTEND:20200225T103000Z
SUMMARY:Monte Miller Awards
GEO:-37.809876;145.0054
LOCATION:MOON DOG BREWERY BALLROOM\, 17-23 DUKE STREET\, ABBOTSFORD VICTORI
 A\, Australia
END:VEVENT
END:VCALENDAR
