BEGIN:VCALENDAR
VERSION:2.0
PRODID:-//Squarespace Inc/Squarespace 6//v6//EN
BEGIN:VEVENT
UID:5e412ae6d8d2da072eb0a9e7@squarespace.com
DTSTAMP:20200210T100800Z
DTSTART:20200217T210000Z
DTEND:20200217T223000Z
SUMMARY:SPA - Breakfast Briefing with Rick Maier\, Network Ten 
GEO:-33.895258;151.22153
LOCATION:Fox Studios Australia\, Boardroom\, Level 1\, Building 61\, Moore 
 Park NSW 2021\, Australia
END:VEVENT
END:VCALENDAR
