BEGIN:VCALENDAR
VERSION:2.0
PRODID:-//Squarespace Inc/Squarespace 6//v6//EN
BEGIN:VEVENT
UID:5e412d6cbab6ba3cfa6dda90@squarespace.com
DTSTAMP:20200210T101826Z
DTSTART:20200215T030000Z
DTEND:20200215T050000Z
SUMMARY:WA: Meet the Creatives
GEO:-31.94737;115.83003
LOCATION:THE CORNER GALLERY\, 263 HAY STREET\, SUBIACO\,\, PERTH\, WESTERN 
 AUSTRALIA 6008\, Australia
END:VEVENT
END:VCALENDAR
