BEGIN:VCALENDAR
VERSION:2.0
PRODID:-//Squarespace Inc/Squarespace 6//v6//EN
BEGIN:VEVENT
UID:5e437ed8f0d10522285e7da3@squarespace.com
DTSTAMP:20200212T042903Z
DTSTART:20200212T220000Z
DTEND:20200227T120000Z
SUMMARY:Mardi Gras Film Festival - Sydney
END:VEVENT
END:VCALENDAR
