BEGIN:VCALENDAR
VERSION:2.0
PRODID:-//Squarespace Inc/Squarespace 6//v6//EN
BEGIN:VEVENT
UID:5e412a202e50ae04a9dc25c4@squarespace.com
DTSTAMP:20200210T100446Z
DTSTART:20201116T220000Z
DTEND:20201119T100000Z
SUMMARY:Screen Forever 2020
GEO:-28.032005;153.429246
LOCATION:The Star Conference Centre\, 1 Casino Dr\, Broadbeach QLD 4218\, A
 ustralia
END:VEVENT
END:VCALENDAR
