BEGIN:VCALENDAR
VERSION:2.0
PRODID:-//Squarespace Inc/Squarespace 6//v6//EN
BEGIN:VEVENT
UID:5e4128ef2c1d2d7368551f16@squarespace.com
DTSTAMP:20200210T100141Z
DTSTART:20201116T220000Z
DTEND:20201117T100000Z
SUMMARY:20th Annual Screen Producers Australia Awards
END:VEVENT
END:VCALENDAR
