BEGIN:VCALENDAR
VERSION:2.0
PRODID:-//Squarespace Inc/Squarespace 6//v6//EN
BEGIN:VEVENT
UID:5e437cb87bcc822d981de906@squarespace.com
DTSTAMP:20200212T042236Z
DTSTART:20201019T220000Z
DTEND:20201023T120000Z
SUMMARY:Australian International Movie Convention 2020
END:VEVENT
END:VCALENDAR
