BEGIN:VCALENDAR
VERSION:2.0
PRODID:-//Squarespace Inc/Squarespace 6//v6//EN
BEGIN:VEVENT
UID:5e437ae6812434757a464310@squarespace.com
DTSTAMP:20200212T041232Z
DTSTART:20201014T220000Z
DTEND:20201025T120000Z
SUMMARY:Antenna Festival – Documentary Film Festival
END:VEVENT
END:VCALENDAR
