BEGIN:VCALENDAR
VERSION:2.0
PRODID:-//Squarespace Inc/Squarespace 6//v6//EN
BEGIN:VEVENT
UID:5e4378a7907ec801daf39a09@squarespace.com
DTSTAMP:20200212T040341Z
DTSTART:20201009T220000Z
DTEND:20201025T053000Z
SUMMARY:Adelaide Film Festival
END:VEVENT
END:VCALENDAR
