BEGIN:VCALENDAR
VERSION:2.0
PRODID:-//Squarespace Inc/Squarespace 6//v6//EN
BEGIN:VEVENT
UID:5e43794e9dfb6e57533f3ff1@squarespace.com
DTSTAMP:20200212T041042Z
DTSTART:20200930T230000Z
DTEND:20201011T110000Z
SUMMARY:Brisbane International Film Festival
END:VEVENT
END:VCALENDAR
