BEGIN:VCALENDAR
VERSION:2.0
PRODID:-//Squarespace Inc/Squarespace 6//v6//EN
BEGIN:VEVENT
UID:5d6b5509be3d8f00017f4b47@squarespace.com
DTSTAMP:20190901T052635Z
DTSTART:20190908T030000Z
DTEND:20190908T070000Z
SUMMARY:WIFT Australia presents: The Women of Sci-Fi Short Film Line-Up
GEO:-33.875099;151.205977
LOCATION:Event Cinemas George Street\, 505-525 George Street\, Sydney\, NSW
 \, 2001\, Australia
END:VEVENT
END:VCALENDAR
