BEGIN:VCALENDAR
VERSION:2.0
PRODID:-//Squarespace Inc/Squarespace 6//v6//EN
BEGIN:VEVENT
UID:5d6b58dca464e500012c0814@squarespace.com
DTSTAMP:20190901T053855Z
DTSTART:20190905T230000Z
DTEND:20190907T070000Z
SUMMARY:WIFT VIC presents Sue Maslin’s Creative Leadership Workshop Series
GEO:-37.829081;144.962924
LOCATION:The Arcade\, 164 Kings Way\, South Melbourne VIC 3205\, Australia
END:VEVENT
END:VCALENDAR
