BEGIN:VCALENDAR
VERSION:2.0
PRODID:-//Squarespace Inc/Squarespace 6//v6//EN
BEGIN:VEVENT
UID:5d6b5d6dc6d439000158c3d2@squarespace.com
DTSTAMP:20190901T055831Z
DTSTART:20190904T083000Z
DTEND:20190904T103000Z
SUMMARY:Dame Changer: Masterclass with Gabrielle Dolan 
GEO:-33.895258;151.22153
LOCATION:Australian Film Television and Radio School  AFTRS Theatre\, Moore 
 Park\, NSW\, 2021\, Australia
END:VEVENT
END:VCALENDAR
