BEGIN:VCALENDAR
VERSION:2.0
PRODID:-//Squarespace Inc/Squarespace 6//v6//EN
BEGIN:VEVENT
UID:5d6b5b3841111900011aa64b@squarespace.com
DTSTAMP:20190901T054819Z
DTSTART:20190926T083000Z
DTEND:20190926T113000Z
SUMMARY:WIFT VIC - Ride Like A Girl Screening and Networking Event 
GEO:-37.798108;144.96824
LOCATION:Cinema Nova\, 380 Lygon Street\, Carlton\, VIC\, 3053\, Australia
END:VEVENT
END:VCALENDAR
