BEGIN:VCALENDAR
VERSION:2.0
PRODID:-//Squarespace Inc/Squarespace 6//v6//EN
BEGIN:VEVENT
UID:5d6b5c634f45fb000117266b@squarespace.com
DTSTAMP:20190901T055511Z
DTSTART:20190913T230000Z
DTEND:20190915T110000Z
SUMMARY:SF3 SMARTFONE FLICK FEST&nbsp\;
GEO:-33.875403;151.205919
LOCATION:Event Cinemas George Street\, 505/525 George St\, Sydney NSW 2000\
 , Australia
END:VEVENT
END:VCALENDAR
