BEGIN:VCALENDAR
VERSION:2.0
PRODID:-//Squarespace Inc/Squarespace 6//v6//EN
BEGIN:VEVENT
UID:5d6b56afb91b0c0001d411a3@squarespace.com
DTSTAMP:20190901T054143Z
DTSTART:20190911T083000Z
DTEND:20190911T113000Z
SUMMARY:WIFT NSW present In The Works:
GEO:-33.875099;151.205977
LOCATION:Event Cinemas George St\, 505 - 525 George St\, Sydney NSW 2000\, 
 Australia
END:VEVENT
END:VCALENDAR
