BEGIN:VCALENDAR
VERSION:2.0
PRODID:-//Squarespace Inc/Squarespace 6//v6//EN
BEGIN:VEVENT
UID:5d6b5e1ce4f17a0001915356@squarespace.com
DTSTAMP:20190901T060033Z
DTSTART:20190910T080000Z
DTEND:20190910T110000Z
SUMMARY:Women in Screen &amp\; Entertainment (WISE)
END:VEVENT
END:VCALENDAR
