BEGIN:VCALENDAR
VERSION:2.0
PRODID:-//Squarespace Inc/Squarespace 6//v6//EN
BEGIN:VEVENT
UID:5ce74dc7652dea3838d6578a@squarespace.com
DTSTAMP:20190524T015120Z
DTSTART:20190822T135900Z
DTEND:20190823T135900Z
SUMMARY:Natalie Miller Fellowship - Applications close - AUSTRALIA
END:VEVENT
END:VCALENDAR
