BEGIN:VCALENDAR
VERSION:2.0
PRODID:-//Squarespace Inc/Squarespace 6//v6//EN
BEGIN:VEVENT
UID:5cdbb4b29140b790b0bfa17c@squarespace.com
DTSTAMP:20190515T064231Z
DTSTART:20190706T000000Z
DTEND:20190706T030000Z
SUMMARY:WIFT WA at Revelation Film Festival - PERTH
END:VEVENT
END:VCALENDAR
