BEGIN:VCALENDAR
VERSION:2.0
PRODID:-//Squarespace Inc/Squarespace 6//v6//EN
BEGIN:VEVENT
UID:5cc260b4e79c708c2b810644@squarespace.com
DTSTAMP:20190426T013738Z
DTSTART:20190725T230000Z
DTEND:20190727T070000Z
SUMMARY:Screen Makers Conference - ADELAIDE
END:VEVENT
END:VCALENDAR
