BEGIN:VCALENDAR
VERSION:2.0
PRODID:-//Squarespace Inc/Squarespace 6//v6//EN
BEGIN:VEVENT
UID:5cdbb570e5e5f0c2b2c259d7@squarespace.com
DTSTAMP:20190515T064552Z
DTSTART:20190716T230000Z
DTEND:20190719T070000Z
SUMMARY:Media &amp\; Entertainment Tech Expo - SYDNEY
END:VEVENT
END:VCALENDAR
