BEGIN:VCALENDAR
VERSION:2.0
PRODID:-//Squarespace Inc/Squarespace 6//v6//EN
BEGIN:VEVENT
UID:5cc260406e9a7f1fcac80c97@squarespace.com
DTSTAMP:20190426T013602Z
DTSTART:20190608T070000Z
DTEND:20190608T130000Z
SUMMARY:Vivid x Freshflix Film Festival - SYDNEY
END:VEVENT
END:VCALENDAR
