BEGIN:VCALENDAR
VERSION:2.0
PRODID:-//Squarespace Inc/Squarespace 6//v6//EN
BEGIN:VEVENT
UID:5cdbb5369140b790b0bfa40a@squarespace.com
DTSTAMP:20190515T064451Z
DTSTART:20190607T090000Z
DTEND:20190607T110000Z
SUMMARY:Women In Screen Meetup - SYDNEY
END:VEVENT
END:VCALENDAR
