BEGIN:VCALENDAR
VERSION:2.0
PRODID:-//Squarespace Inc/Squarespace 6//v6//EN
BEGIN:VEVENT
UID:5cc25fd9c8302590dfa4b223@squarespace.com
DTSTAMP:20190426T013424Z
DTSTART:20190604T230000Z
DTEND:20190616T080000Z
SUMMARY:Sydney Film Festival - SYDNEY
END:VEVENT
END:VCALENDAR
