BEGIN:VCALENDAR
VERSION:2.0
PRODID:-//Squarespace Inc/Squarespace 6//v6//EN
BEGIN:VEVENT
UID:5cc25ee753450aa49675cdbd@squarespace.com
DTSTAMP:20190426T013238Z
DTSTART:20190503T230000Z
DTEND:20190505T070000Z
SUMMARY:Screen ABC Weekend Intensive Course: Pitching - SYDNEY
END:VEVENT
END:VCALENDAR
