BEGIN:VCALENDAR
VERSION:2.0
PRODID:-//Squarespace Inc/Squarespace 6//v6//EN
BEGIN:VEVENT
UID:5cdbb45ddabd95000188b8c8@squarespace.com
DTSTAMP:20190515T064139Z
DTSTART:20190530T080000Z
DTEND:20190530T110000Z
SUMMARY:WIFT WA - Annual General Meeting - PERTH
END:VEVENT
END:VCALENDAR
