BEGIN:VCALENDAR
VERSION:2.0
PRODID:-//Squarespace Inc/Squarespace 6//v6//EN
BEGIN:VEVENT
UID:5cdbb5e2e5e5f0c2b2c25bdc@squarespace.com
DTSTAMP:20190515T064732Z
DTSTART:20190528T230000Z
DTEND:20190530T070000Z
SUMMARY:SPA - Screen Business Essentials - SYDNEY
END:VEVENT
END:VCALENDAR
