BEGIN:VCALENDAR
VERSION:2.0
PRODID:-//Squarespace Inc/Squarespace 6//v6//EN
BEGIN:VEVENT
UID:5cdbb4fc104c7b8ac59ba5f7@squarespace.com
DTSTAMP:20190515T064343Z
DTSTART:20190529T080000Z
DTEND:20190529T110000Z
SUMMARY:Pulse Q&amp\;A with Director Stevie Cruz-Martin - PERTH
END:VEVENT
END:VCALENDAR
