BEGIN:VCALENDAR
VERSION:2.0
PRODID:-//Squarespace Inc/Squarespace 6//v6//EN
BEGIN:VEVENT
UID:5cc25e23ec212d0d97534bd4@squarespace.com
DTSTAMP:20190426T012656Z
DTSTART:20190523T230000Z
DTEND:20190524T070000Z
SUMMARY:Making It Possible - DUBBO
END:VEVENT
END:VCALENDAR
