BEGIN:VCALENDAR
VERSION:2.0
PRODID:-//Squarespace Inc/Squarespace 6//v6//EN
BEGIN:VEVENT
UID:5cc25dece79c708c2b80ee70@squarespace.com
DTSTAMP:20190426T012535Z
DTSTART:20190502T073000Z
DTEND:20190502T113000Z
SUMMARY:Celebrating Creative Women - MELBOURNE
END:VEVENT
END:VCALENDAR
