BEGIN:VCALENDAR
VERSION:2.0
PRODID:-//Squarespace Inc/Squarespace 6//v6//EN
BEGIN:VEVENT
UID:5cdbb5b0a4222fa469e8dd69@squarespace.com
DTSTAMP:20190515T064642Z
DTSTART:20190515T230000Z
DTEND:20190516T070000Z
SUMMARY:Diverse Encounters on Screen - SYDNEY
END:VEVENT
END:VCALENDAR
