BEGIN:VCALENDAR
VERSION:2.0
PRODID:-//Squarespace Inc/Squarespace 6//v6//EN
BEGIN:VEVENT
UID:5cc25f8853450aa49675d2c3@squarespace.com
DTSTAMP:20190426T013230Z
DTSTART:20190509T230000Z
DTEND:20190510T000000Z
SUMMARY:SPA Breakfast Briefing - SYDNEY
END:VEVENT
END:VCALENDAR
