BEGIN:VCALENDAR
VERSION:2.0
PRODID:-//Squarespace Inc/Squarespace 6//v6//EN
BEGIN:VEVENT
UID:5cc25e9b53450aa49675cada@squarespace.com
DTSTAMP:20190426T013246Z
DTSTART:20190501T083000Z
DTEND:20190501T113000Z
SUMMARY:Screen ABC: In Conversation with Al Clark - SYDNEY
END:VEVENT
END:VCALENDAR
