BEGIN:VCALENDAR
VERSION:2.0
PRODID:-//Squarespace Inc/Squarespace 6//v6//EN
BEGIN:VEVENT
UID:5cc25f357817f7de2f20a8be@squarespace.com
DTSTAMP:20190426T013125Z
DTSTART:20190429T230000Z
DTEND:20190430T070000Z
SUMMARY:SPA Screen Business Essentials - BRISBANE
END:VEVENT
END:VCALENDAR
