BEGIN:VCALENDAR
VERSION:2.0
PRODID:-//Squarespace Inc/Squarespace 6//v6//EN
BEGIN:VEVENT
UID:5db68cb35d3ce536b6b7d3b9@squarespace.com
DTSTAMP:20191028T063834Z
DTSTART:20191209T080000Z
DTEND:20191209T100000Z
SUMMARY:Advocacy Group Meetup
END:VEVENT
END:VCALENDAR
