BEGIN:VCALENDAR
VERSION:2.0
PRODID:-//Squarespace Inc/Squarespace 6//v6//EN
BEGIN:VEVENT
UID:5dae9977f822266fc0ee7547@squarespace.com
DTSTAMP:20191022T055659Z
DTSTART:20191207T060000Z
DTEND:20191207T120000Z
SUMMARY:Ellie Awards - Aust Screen Editors Guild
END:VEVENT
END:VCALENDAR
