BEGIN:VCALENDAR
VERSION:2.0
PRODID:-//Squarespace Inc/Squarespace 6//v6//EN
BEGIN:VEVENT
UID:5dd28edfe6fd5c70297832e8@squarespace.com
DTSTAMP:20191118T123212Z
DTSTART:20191206T073000Z
DTEND:20191206T093000Z
SUMMARY:(Syd) AWG Write Night Xmas Drinks
END:VEVENT
END:VCALENDAR
