BEGIN:VCALENDAR
VERSION:2.0
PRODID:-//Squarespace Inc/Squarespace 6//v6//EN
BEGIN:VEVENT
UID:5dd28e4002d9fb793fda6346@squarespace.com
DTSTAMP:20191118T123012Z
DTSTART:20191205T070000Z
DTEND:20191205T120000Z
SUMMARY:(Syd) WIFT NSW &amp\; Screen Vixens End of Year Drinks
END:VEVENT
END:VCALENDAR
