BEGIN:VCALENDAR
VERSION:2.0
PRODID:-//Squarespace Inc/Squarespace 6//v6//EN
BEGIN:VEVENT
UID:5dae9902940053095c9a0397@squarespace.com
DTSTAMP:20191022T102540Z
DTSTART:20191204T040000Z
DTEND:20191204T120000Z
SUMMARY:(Syd) AACTA Awards
END:VEVENT
END:VCALENDAR
