BEGIN:VCALENDAR
VERSION:2.0
PRODID:-//Squarespace Inc/Squarespace 6//v6//EN
BEGIN:VEVENT
UID:5dae992da3383b4c253b4163@squarespace.com
DTSTAMP:20191022T102522Z
DTSTART:20191202T010000Z
DTEND:20191202T030000Z
SUMMARY:(Syd) AACTA Industry Luncheon
END:VEVENT
END:VCALENDAR
